BEGIN:VCALENDAR
VERSION:2.0
METHOD:PUBLISH
BEGIN:VEVENT
UID:WILD_APRICOT_EVENT_3034057_SESSION_1
DTSTART:20180815T210000Z
DTEND:20180815T210000Z
SUMMARY:BBH Breakfast Meeting week 31
LOCATION:Chances
DESCRIPTION:https://betterbusinesshabits.com.au/event-3034057\n\n\nBetter Business Habits Weekly Breakfast\n  \nTopic:\n  What us your customer aquisition activity\, and aquisition costs\n  \nSpeaker:\n  Jamie Cameron from OnHold Express\n
DTSTAMP:20260424T170454Z
END:VEVENT
END:VCALENDAR
