BEGIN:VCALENDAR
VERSION:2.0
METHOD:PUBLISH
BEGIN:VEVENT
UID:WILD_APRICOT_EVENT_3035374_SESSION_1
DTSTART:20180822T210000Z
DTEND:20180822T210000Z
SUMMARY:BBH Breakfast Meeting week 32
LOCATION:Chances
DESCRIPTION:https://betterbusinesshabits.com.au/event-3035374\n\n\nBetter Business Habits Weekly Breakfast\n  \nTopic:\n How do you record your processes?\n  \nSpeaker:\n Wayne Lawson\nInHale\n
DTSTAMP:20260424T170422Z
END:VEVENT
END:VCALENDAR
