BEGIN:VCALENDAR
VERSION:2.0
METHOD:PUBLISH
BEGIN:VEVENT
UID:WILD_APRICOT_EVENT_3037910_SESSION_1
DTSTART:20180829T210000Z
DTEND:20180829T210000Z
SUMMARY:BBH Breakfast Meeting week 33
LOCATION:Chances
DESCRIPTION:https://betterbusinesshabits.com.au/event-3037910\n\n\nBetter Business Habits Weekly Breakfast\n  \nTopic:\n\n  How do you track the success of your marketing?\n  \nSpeaker:\n Craig Levitt\n Life & Wealth Academy\n
DTSTAMP:20260424T164037Z
END:VEVENT
END:VCALENDAR
