BEGIN:VCALENDAR
VERSION:2.0
METHOD:PUBLISH
BEGIN:VEVENT
UID:WILD_APRICOT_EVENT_3047948_SESSION_1
DTSTART:20180905T204500Z
DTEND:20180905T204500Z
SUMMARY:BBH Breakfast Meeting week 34
LOCATION:Chances
DESCRIPTION:https://betterbusinesshabits.com.au/event-3047948\n\n\nBetter Business Habits Weekly Breakfast\n  \nTopic:\n TBA\n  \nSpeaker:\n Kim Maher\n D & K Quality Cleaning Pty Ltd\n
DTSTAMP:20260424T163952Z
END:VEVENT
END:VCALENDAR
