BEGIN:VCALENDAR
VERSION:2.0
METHOD:PUBLISH
BEGIN:VEVENT
UID:WILD_APRICOT_EVENT_3047954_SESSION_1
DTSTART:20180912T204500Z
DTEND:20180912T204500Z
SUMMARY:BBH Breakfast Meeting week 35
LOCATION:Chances
DESCRIPTION:https://betterbusinesshabits.com.au/event-3047954\n\n\nBetter Business Habits Weekly Breakfast\n  \nTopic:\nWhat is the Vision and Mission of your business?\n  \nSpeaker:\n  \nNo speaker this week. We are conducting a group planning session.\n
DTSTAMP:20260424T163943Z
END:VEVENT
END:VCALENDAR
