BEGIN:VCALENDAR
VERSION:2.0
METHOD:PUBLISH
BEGIN:VEVENT
UID:WILD_APRICOT_EVENT_3047960_SESSION_1
DTSTART:20180919T204500Z
DTEND:20180919T204500Z
SUMMARY:BBH Breakfast Meeting week 36
LOCATION:Chances Restaurant Parkyn Parade\, Mooloolaba QLD 4557
DESCRIPTION:https://betterbusinesshabits.com.au/event-3047960\n\n\nBetter Business Habits Weekly Breakfast\n  \nTopic:\nDescribe your worst boss and tell us the best you learnt from them?\n  \nSpeaker:\n Michelle Milson\n Sherrin Partners\n
DTSTAMP:20260424T170445Z
END:VEVENT
END:VCALENDAR
