BEGIN:VCALENDAR
VERSION:2.0
METHOD:PUBLISH
BEGIN:VEVENT
UID:WILD_APRICOT_EVENT_3047962_SESSION_1
DTSTART:20180926T204500Z
DTEND:20180926T204500Z
SUMMARY:BBH Breakfast Meeting week 37
LOCATION:Chances Restaurant Parkyn Parade\, Mooloolaba QLD 4557
DESCRIPTION:https://betterbusinesshabits.com.au/event-3047962\n\n\nBetter Business Habits Weekly Breakfast\n  \nTopic:\nTop 10 Things you give a F@*K about in business.\n  \nSpeaker:\n Pat Ryan\n Ryan Designer Homes\n
DTSTAMP:20260424T163857Z
END:VEVENT
END:VCALENDAR
