BEGIN:VCALENDAR
VERSION:2.0
METHOD:PUBLISH
BEGIN:VEVENT
UID:WILD_APRICOT_EVENT_3064189_SESSION_1
DTSTART:20181003T204500Z
DTEND:20181003T204500Z
SUMMARY:BBH Breakfast Meeting week 38
LOCATION:Chances Restaurant Parkyn Parade\, Mooloolaba QLD 4557
DESCRIPTION:https://betterbusinesshabits.com.au/event-3064189\n\n\nBetter Business Habits Weekly Breakfast\n  \nTopic:\n\n  What economic issues specifically affect your business and how do you mitigate them?\n  \nSpeaker:\n\n  \nTrevor Martin\n Waterfront Agents\n
DTSTAMP:20260424T163408Z
END:VEVENT
END:VCALENDAR
