BEGIN:VCALENDAR
VERSION:2.0
METHOD:PUBLISH
BEGIN:VEVENT
UID:WILD_APRICOT_EVENT_3064193_SESSION_1
DTSTART:20181010T204500Z
DTEND:20181010T204500Z
SUMMARY:BBH Breakfast Meeting week 39
LOCATION:Chances Restaurant Parkyn Parade\, Mooloolaba QLD 4557
DESCRIPTION:https://betterbusinesshabits.com.au/event-3064193\n\n\nBetter Business Habits Weekly Breakfast\n  \nTopic:\nRate your branding on a scale of 1-5 (1 being perfect) and tell us why?\n  \nGuest Speaker: \n Paula Brennan\n Photographer\n  \n\n     Paula Brennan is a Sunny Coast photographer who specialises in helping business owners to create connection through personal brand imagery and video. She sees the world through marketing goggles and is a master at helping business owners like you to strategist & create imagery that will help you to up-level with confidence. \n 
DTSTAMP:20260424T165144Z
END:VEVENT
END:VCALENDAR
