BEGIN:VCALENDAR
VERSION:2.0
METHOD:PUBLISH
BEGIN:VEVENT
UID:WILD_APRICOT_EVENT_3064201_SESSION_1
DTSTART:20181017T204500Z
DTEND:20181017T204500Z
SUMMARY:BBH Breakfast Meeting week 40
LOCATION:Chances Restaurant Parkyn Parade\, Mooloolaba QLD 4557
DESCRIPTION:https://betterbusinesshabits.com.au/event-3064201\n\n\nBetter Business Habits Weekly Breakfast\n  \nTopic:\nWhat is your favourite quote about Money?\n  \nGuest Speaker:\n Mick & Cassie Kinnear\n Zero Termite & Pest Control \n     \n      \n 
DTSTAMP:20260424T163906Z
END:VEVENT
END:VCALENDAR
