BEGIN:VCALENDAR
VERSION:2.0
METHOD:PUBLISH
BEGIN:VEVENT
UID:WILD_APRICOT_EVENT_3064203_SESSION_1
DTSTART:20181024T204500Z
DTEND:20181024T204500Z
SUMMARY:BBH Breakfast Meeting week 41
LOCATION:Chances Restaurant Parkyn Parade\, Mooloolaba QLD 4557
DESCRIPTION:https://betterbusinesshabits.com.au/event-3064203\n\n\nBetter Business Habits Weekly Breakfast\n  \nTopic:\nWhich Tax to you think needs to be removed and why?\n  \nSpeaker:\n Matt Dryden\n Dryden Associates \n  \n\n\n
DTSTAMP:20260424T163923Z
END:VEVENT
END:VCALENDAR
