BEGIN:VCALENDAR
VERSION:2.0
METHOD:PUBLISH
BEGIN:VEVENT
UID:WILD_APRICOT_EVENT_3064204_SESSION_1
DTSTART:20181031T204500Z
DTEND:20181031T204500Z
SUMMARY:BBH Breakfast Meeting week 42
LOCATION:Chances Restaurant Parkyn Parade\, Mooloolaba QLD 4557
DESCRIPTION:https://betterbusinesshabits.com.au/event-3064204\n\n\nBetter Business Habits Weekly Breakfast\n  \nTopic:\nWhat is your exit strategy?\n  \nSpeaker:\n Jakki Goodall\n Business Model Compass\n
DTSTAMP:20260424T163337Z
END:VEVENT
END:VCALENDAR
