BEGIN:VCALENDAR
VERSION:2.0
METHOD:PUBLISH
BEGIN:VEVENT
UID:WILD_APRICOT_EVENT_3096699_SESSION_1
DTSTART:20181201T070000Z
DTEND:20181201T133000Z
SUMMARY:BBH 2018 Xmas Party
LOCATION:Millsom's Manor- 11 Myoora Court\, Minyama
DESCRIPTION:https://betterbusinesshabits.com.au/event-3096699\n\n\n\n  \nBetter Business Habits\n  \n Xmas Party 2018\n     Date: 1st December      Time : 5pm till late      Setup: 10.00am (Social Pod)      Venue: Millsom's Manor      Address: 11 Myoora Court\, Minyama      Cost: Free for Members\, guests are $35 each.       \n      Meet and greet at 5pm. Enjoy the tunes of the 3 piece band while enjoy casual conversations and games with other members and their partners.  Relax over the next four hours as waitresses serve over 6 different gourmet canapes and top up your drinks. If you are still peckish you can fill up on the buffet style grazing plates. The range of canapes include:         \n                   Seared scallop\, corn puree\, panchetta and truffle oil\n        Prawn and avocado mousse cornetto\n        Tempura oyster\, wakame and jap mayo\n        Salmon cerviche\, yuzu and apple jelly\n        Duck pancakes\n        Chicken souvlaki skewers\n        Charred lamb cutlets\, pommegranite molasses\n        Sticky pork belly bits\n        Zucchini and haloumi fritters \n        watermelon gazpacho shots\n        Please let us know if you have any dietary requirements.  
DTSTAMP:20260424T170413Z
END:VEVENT
END:VCALENDAR
