BEGIN:VCALENDAR
VERSION:2.0
METHOD:PUBLISH
BEGIN:VEVENT
UID:WILD_APRICOT_EVENT_3102486_SESSION_1
DTSTART:20181107T204500Z
DTEND:20181107T204500Z
SUMMARY:BBH Breakfast Meeting week 43
LOCATION:Chances Restaurant Parkyn Parade\, Mooloolaba QLD 4557
DESCRIPTION:https://betterbusinesshabits.com.au/event-3102486\n\n\nBetter Business Habits Weekly Breakfast\n  \nTopic:\n  What is your exit strategy?\n  \nSpeaker:\n  Jakki Goodall\n  Business Model Compass\n     \n      \n 
DTSTAMP:20260424T165214Z
END:VEVENT
END:VCALENDAR
