BEGIN:VCALENDAR
VERSION:2.0
METHOD:PUBLISH
BEGIN:VEVENT
UID:WILD_APRICOT_EVENT_3120040_SESSION_1
DTSTART:20181114T210000Z
DTEND:20181114T210000Z
SUMMARY:BBH Breakfast Meeting week 44
LOCATION:Chances Restaurant Parkyn Parade\, Mooloolaba QLD 4557
DESCRIPTION:https://betterbusinesshabits.com.au/event-3120040\n\n\nBetter Business Habits Weekly Breakfast\n  \nTopic:\n  \nWhat are your top 5 phrases or key words to describe your business? \n  \nSpeaker:\n  \nDes Smith\n SEO Domination\n     Des is a business owner and entrepreneur with a history of creating and building successful businesses. He has a passion for learning\, innovation and business strategy. Des is committed to applying his unique skill set to help like-minded businesses increase their online exposure\, grow their customer base and boost their revenues. Learn More about Des\n 
DTSTAMP:20260424T180747Z
END:VEVENT
END:VCALENDAR
