BEGIN:VCALENDAR
VERSION:2.0
METHOD:PUBLISH
BEGIN:VEVENT
UID:WILD_APRICOT_EVENT_3133989_SESSION_1
DTSTART:20181121T210000Z
DTEND:20181121T210000Z
SUMMARY:BBH Breakfast Meeting week 45
LOCATION:Chances Restaurant Parkyn Parade\, Mooloolaba QLD 4557
DESCRIPTION:https://betterbusinesshabits.com.au/event-3133989\n\n\nBetter Business Habits Weekly Breakfast\n  \nTopic:\n  \nWhat's an area of your work you want to improve?\n  \nSpeaker:\n  \nTBA\n
DTSTAMP:20260424T163825Z
END:VEVENT
END:VCALENDAR
