BEGIN:VCALENDAR
VERSION:2.0
METHOD:PUBLISH
BEGIN:VEVENT
UID:WILD_APRICOT_EVENT_3140602_SESSION_1
DTSTART:20181128T210000Z
DTEND:20181128T210000Z
SUMMARY:BBH Breakfast Meeting week 46
LOCATION:Chances Restaurant Parkyn Parade\, Mooloolaba QLD 4557
DESCRIPTION:https://betterbusinesshabits.com.au/event-3140602\n\n\nBetter Business Habits Weekly Breakfast\n  \nTopic:\n  \nWhen does delegation NOT work?\n  \nSpeaker:\n\n  \nPaula Anderson-Stevenson\n
DTSTAMP:20260424T164027Z
END:VEVENT
END:VCALENDAR
