BEGIN:VCALENDAR
VERSION:2.0
METHOD:PUBLISH
BEGIN:VEVENT
UID:WILD_APRICOT_EVENT_3140605_SESSION_1
DTSTART:20181205T210000Z
DTEND:20181205T210000Z
SUMMARY:BBH Breakfast Meeting week 47
LOCATION:Chances Restaurant Parkyn Parade\, Mooloolaba QLD 4557
DESCRIPTION:https://betterbusinesshabits.com.au/event-3140605\n\n\nBetter Business Habits Weekly Breakfast\n  \nTopic:\n  \nHow would do you want to improve your business workplace and environment?\n  \nSpeaker:\n  \nGeorgia Chase - Chase Air\n
DTSTAMP:20260424T163418Z
END:VEVENT
END:VCALENDAR
