BEGIN:VCALENDAR
VERSION:2.0
METHOD:PUBLISH
BEGIN:VEVENT
UID:WILD_APRICOT_EVENT_3140606_SESSION_1
DTSTART:20181212T210000Z
DTEND:20181212T210000Z
SUMMARY:BBH Breakfast Meeting week 48
LOCATION:Chances Restaurant Parkyn Parade\, Mooloolaba QLD 4557
DESCRIPTION:https://betterbusinesshabits.com.au/event-3140606\n\n\nBetter Business Habits Weekly Breakfast\n  \nTopic:\n  \nWhat do you want for Xmas?\n  \nSpeaker:\n  \nSurprise Activity \n
DTSTAMP:20260424T170506Z
END:VEVENT
END:VCALENDAR
