BEGIN:VCALENDAR
VERSION:2.0
METHOD:PUBLISH
BEGIN:VEVENT
UID:WILD_APRICOT_EVENT_3140608_SESSION_1
DTSTART:20190116T210000Z
DTEND:20190116T210000Z
SUMMARY:BBH Breakfast Meeting Week 1
LOCATION:Chances Restaurant Parkyn Parade\, Mooloolaba QLD 4557
DESCRIPTION:https://betterbusinesshabits.com.au/event-3140608\n\n\nBetter Business Habits Weekly Breakfast - Week 1\n  Please complete the survey by COB Monday 14th January. \n  \nTopic: \n  \nWhat are the top three goals you would like to achieve with your BBH membership this year?\n  \nSpeaker:\n  \nReview survey results and discuss.\n
DTSTAMP:20260424T170352Z
END:VEVENT
END:VCALENDAR
