BEGIN:VCALENDAR
VERSION:2.0
METHOD:PUBLISH
BEGIN:VEVENT
UID:WILD_APRICOT_EVENT_3160987_SESSION_1
DTSTART:20181219T210000Z
DTEND:20181219T210000Z
SUMMARY:BBH Breakfast Meeting week 49 - Last Meeting for 2018
LOCATION:BBQ at Mooloolaba (Between Loo with a view and the Surfclub)
DESCRIPTION:https://betterbusinesshabits.com.au/event-3160987\n\n\nBetter Business Habits Weekly Breakfast\n  \nAwards:\n  A chance to acknowledge each member for their contribution to a brilliant 2018. There will be Offical and Unoffical awards given on the day. \n  Please nominate your choice for the following:\n  Most Improved Business\n      * Most informative Talk\n\n\n        * Most Guests Invited\n\n\n        * Service to the Group\n\n\n        * Going Beyond the Call of Duty\n\n\n        * Organising the Best Speaker\n\n\n  \nSavage Santa:\n  A chance to see a different side of our members as presents are given\, received and stolen. Always lots of laughs. \n  Simpy purchase a gift under $10 and bring it wrapped to the last meeting.\n  \n\n  \n\n\n
DTSTAMP:20260424T163347Z
END:VEVENT
END:VCALENDAR
