BEGIN:VCALENDAR
VERSION:2.0
METHOD:PUBLISH
BEGIN:VEVENT
UID:WILD_APRICOT_EVENT_3221795_SESSION_1
DTSTART:20190123T210000Z
DTEND:20190123T210000Z
SUMMARY:BBH Breakfast Meeting Week 2
LOCATION:Chances Restaurant Parkyn Parade\, Mooloolaba QLD 4557
DESCRIPTION:https://betterbusinesshabits.com.au/event-3221795\n\n\nBetter Business Habits Weekly Breakfast - Week 2\n  \nTopic: \n  \nWhat is something that you know this year that you didn't know last year that can help you in business?\n  \nSpeaker:\n  \nTBA\n
DTSTAMP:20260424T165434Z
END:VEVENT
END:VCALENDAR
