BEGIN:VCALENDAR
VERSION:2.0
METHOD:PUBLISH
BEGIN:VEVENT
UID:WILD_APRICOT_EVENT_3221803_SESSION_1
DTSTART:20190130T210000Z
DTEND:20190130T210000Z
SUMMARY:BBH Breakfast Meeting Week 3
LOCATION:Chances Restaurant Parkyn Parade\, Mooloolaba QLD 4557
DESCRIPTION:https://betterbusinesshabits.com.au/event-3221803\n\n\nBetter Business Habits Weekly Breakfast - Week 2\n  \nTopic: \n  \nWhat would you write a book about?\n  \nSpeaker:\n  \n  Cathryn Mora from Change Empire Book Coaching will present an entertaining 20 min presentation about book writing.\n  The presentation will highlight:\n      * One of the fastest ways to establish credibility and clearly claim ownership of intellectual property is through writing a quality book\n\n        * In any group 80% want to write a book. 5% will start writing that book. 2% will actually finish it. Why does this happen and how can you not be a statistic?\n\n        * The common trip hazards plus practical tips about how to actually get started and most importantly\, finish your book\n\n        * How you only need 15 mins a day to get it done! (Most good things take 15 minutes\, apparently)\n\n  A fast-paced\, humorous look at what really counts and how you can make 2019 the year you become an author\, raise your profile\, and do cool things like get speaking gigs\, media\, and better-paying clients!\n
DTSTAMP:20260424T165502Z
END:VEVENT
END:VCALENDAR
