BEGIN:VCALENDAR
VERSION:2.0
METHOD:PUBLISH
BEGIN:VEVENT
UID:WILD_APRICOT_EVENT_3245378_SESSION_1
DTSTART:20190206T210000Z
DTEND:20190206T210000Z
SUMMARY:BBH Breakfast Meeting Week 4
LOCATION:Chances Restaurant Parkyn Parade\, Mooloolaba QLD 4557
DESCRIPTION:https://betterbusinesshabits.com.au/event-3245378\n\n\nBetter Business Habits Weekly Breakfast - Week 3\n  \nTopic: \n  \nDo you want a business with slow\, fast\, or rocket ship growth and why?\n  https://www.martinkaconsulting.com/slow-fast-manageable-growth/\n\n  \nSpeaker:\n  Michelle Millsom - Sherrin Partners \n
DTSTAMP:20260424T170342Z
END:VEVENT
END:VCALENDAR
