BEGIN:VCALENDAR
VERSION:2.0
METHOD:PUBLISH
BEGIN:VEVENT
UID:WILD_APRICOT_EVENT_3259557_SESSION_1
DTSTART:20190213T210000Z
DTEND:20190213T210000Z
SUMMARY:BBH Breakfast Meeting Week 5
LOCATION:Chances Restaurant Parkyn Parade\, Mooloolaba QLD 4557
DESCRIPTION:https://betterbusinesshabits.com.au/event-3259557\n\n\nBetter Business Habits Weekly Breakfast - Week 5\n  \nTopic: \n  \nWhere in the past have you discovered or created a business opportunity and did you act on it?\n  \nSpeaker:\n   -\n  Kerrianne Haggie\n  Industry Advancement Leader: Tourism\, Sport and Leisure \n  Sunshine Coast Council\n  Ms Haggie has 25 years’ experience in designing and delivering industry programs\, including delivering strategic level research\, analysis\, advice and community engagement on key government-led funding and economic development policies and strategies. She works closely with tourism\, sport and leisure industries to attract private and public sector investment and advance industry outcomes across the Sunshine Coast.\n\n
DTSTAMP:20260424T165444Z
END:VEVENT
END:VCALENDAR
