BEGIN:VCALENDAR
VERSION:2.0
METHOD:PUBLISH
BEGIN:VEVENT
UID:WILD_APRICOT_EVENT_3274873_SESSION_1
DTSTART:20190220T210000Z
DTEND:20190220T210000Z
SUMMARY:BBH Breakfast Meeting Week 6
LOCATION:Chances Restaurant Parkyn Parade\, Mooloolaba QLD 4557
DESCRIPTION:https://betterbusinesshabits.com.au/event-3274873\n\n\nBetter Business Habits Weekly Breakfast - Week 6\n  \nTopic: \n  Who is your competitor?  Use this website to research your website and bring your findings along www.spyfu.com\n  \nSpeaker:\n  \n\n  Paula Anderson-Stevens\n  Principal - Aspex Property\n  Paula lives on the Sunshine Coast with her partner and twin daughters. Having worked for other Agents in the past Paula went out on her own in January 2017 and started Aspex Property.\n  \n\n
DTSTAMP:20260424T165424Z
END:VEVENT
END:VCALENDAR
