BEGIN:VCALENDAR
VERSION:2.0
METHOD:PUBLISH
BEGIN:VEVENT
UID:WILD_APRICOT_EVENT_3286133_SESSION_1
DTSTART:20190227T205000Z
DTEND:20190227T205000Z
SUMMARY:BBH Breakfast Meeting Week 7
LOCATION:Chances Restaurant Parkyn Parade\, Mooloolaba QLD 4557
DESCRIPTION:https://betterbusinesshabits.com.au/event-3286133\n\n\nBetter Business Habits Weekly Breakfast - Week 7\n  \nTopic: \n  Goal Setting for Work/Life Balance. How do you do this?\n  \nSpeaker:\n  \n\n  Brian Mayne : Global Speaker\, Best Selling Author\, Seminar Leader\n  Brian is an inspirational speaker\, author and leader on the science of positive thinking and goal achievement. Brian’s world-leading whole-brain success system\, Goal Mapping\, is used by blue-chip organisations such as Microsoft\, Siemens\, Disney and Coca-Cola\, as well as educational establishments\, sport and fitness groups\, and health and personal development forums.\n  He has also worked with renowned speakers such as Brendon Bruchard\, Anthony Robbins\, Christopher Howard and T Harv Ecker.\n  Praise from Anthony Robbins: “Brian is one of the best at helping people create a world-class blueprint for their life – not just goals but sustainable success. His mapping systems are a blast and really effective.”\n  He is the author of four books in books eight languages\, and his workshops and presentations are valued for being simple in their message\, practical in application and effective at delivering transformative results.\n
DTSTAMP:20260424T170316Z
END:VEVENT
END:VCALENDAR
